BEGIN:VCALENDAR
VERSION:2.0
PRODID:-//St Lawrence&#039;s Roman Catholic Church, Feltham - ECPv6.15.8//NONSGML v1.0//EN
CALSCALE:GREGORIAN
METHOD:PUBLISH
X-ORIGINAL-URL:https://saintlawrences.org.uk
X-WR-CALDESC:Events for St Lawrence&#039;s Roman Catholic Church, Feltham
REFRESH-INTERVAL;VALUE=DURATION:PT1H
X-Robots-Tag:noindex
X-PUBLISHED-TTL:PT1H
BEGIN:VTIMEZONE
TZID:Europe/London
BEGIN:DAYLIGHT
TZOFFSETFROM:+0000
TZOFFSETTO:+0100
TZNAME:BST
DTSTART:20290325T010000
END:DAYLIGHT
BEGIN:STANDARD
TZOFFSETFROM:+0100
TZOFFSETTO:+0000
TZNAME:GMT
DTSTART:20291028T010000
END:STANDARD
BEGIN:DAYLIGHT
TZOFFSETFROM:+0000
TZOFFSETTO:+0100
TZNAME:BST
DTSTART:20300331T010000
END:DAYLIGHT
BEGIN:STANDARD
TZOFFSETFROM:+0100
TZOFFSETTO:+0000
TZNAME:GMT
DTSTART:20301027T010000
END:STANDARD
BEGIN:DAYLIGHT
TZOFFSETFROM:+0000
TZOFFSETTO:+0100
TZNAME:BST
DTSTART:20310330T010000
END:DAYLIGHT
BEGIN:STANDARD
TZOFFSETFROM:+0100
TZOFFSETTO:+0000
TZNAME:GMT
DTSTART:20311026T010000
END:STANDARD
END:VTIMEZONE
BEGIN:VEVENT
DTSTART;TZID=Europe/London:20301026T023000
DTEND;TZID=Europe/London:20301026T153000
DTSTAMP:20260420T053057
CREATED:20260218T204415Z
LAST-MODIFIED:20260218T204415Z
UID:10004327-1919212200-1919259000@saintlawrences.org.uk
SUMMARY:Filipino (Tagalog) Mass
DESCRIPTION:
URL:https://saintlawrences.org.uk/event/filipino-tagalog-mass/2030-10-26/
END:VEVENT
BEGIN:VEVENT
DTSTART;TZID=Europe/London:20301026T093000
DTEND;TZID=Europe/London:20301026T100000
DTSTAMP:20260420T053057
CREATED:20260129T215912Z
LAST-MODIFIED:20260129T215912Z
UID:10002108-1919237400-1919239200@saintlawrences.org.uk
SUMMARY:9.30am Mass
DESCRIPTION:
URL:https://saintlawrences.org.uk/event/9-30am-mass-5/2030-10-26/
END:VEVENT
BEGIN:VEVENT
DTSTART;TZID=Europe/London:20301026T101500
DTEND;TZID=Europe/London:20301026T111500
DTSTAMP:20260420T053057
CREATED:20260218T203848Z
LAST-MODIFIED:20260218T203848Z
UID:10003672-1919240100-1919243700@saintlawrences.org.uk
SUMMARY:Confession & Adoration of the Blessed Sacrament
DESCRIPTION:
URL:https://saintlawrences.org.uk/event/confession-adoration-of-the-blessed-sacrament/2030-10-26/
END:VEVENT
BEGIN:VEVENT
DTSTART;TZID=Europe/London:20301026T160000
DTEND;TZID=Europe/London:20301026T170000
DTSTAMP:20260420T053057
CREATED:20260218T203933Z
LAST-MODIFIED:20260218T203933Z
UID:10003933-1919260800-1919264400@saintlawrences.org.uk
SUMMARY:Confession
DESCRIPTION:
URL:https://saintlawrences.org.uk/event/confession/2030-10-26/
END:VEVENT
BEGIN:VEVENT
DTSTART;TZID=Europe/London:20301026T180000
DTEND;TZID=Europe/London:20301026T190000
DTSTAMP:20260420T053057
CREATED:20260129T220453Z
LAST-MODIFIED:20260129T220453Z
UID:10003413-1919268000-1919271600@saintlawrences.org.uk
SUMMARY:6pm Mass
DESCRIPTION:
URL:https://saintlawrences.org.uk/event/6pm-mass/2030-10-26/
END:VEVENT
END:VCALENDAR