BEGIN:VCALENDAR
VERSION:2.0
PRODID:-//St Lawrence&#039;s Roman Catholic Church, Feltham - ECPv6.15.8//NONSGML v1.0//EN
CALSCALE:GREGORIAN
METHOD:PUBLISH
X-ORIGINAL-URL:https://saintlawrences.org.uk
X-WR-CALDESC:Events for St Lawrence&#039;s Roman Catholic Church, Feltham
REFRESH-INTERVAL;VALUE=DURATION:PT1H
X-Robots-Tag:noindex
X-PUBLISHED-TTL:PT1H
BEGIN:VTIMEZONE
TZID:Europe/London
BEGIN:DAYLIGHT
TZOFFSETFROM:+0000
TZOFFSETTO:+0100
TZNAME:BST
DTSTART:20290325T010000
END:DAYLIGHT
BEGIN:STANDARD
TZOFFSETFROM:+0100
TZOFFSETTO:+0000
TZNAME:GMT
DTSTART:20291028T010000
END:STANDARD
BEGIN:DAYLIGHT
TZOFFSETFROM:+0000
TZOFFSETTO:+0100
TZNAME:BST
DTSTART:20300331T010000
END:DAYLIGHT
BEGIN:STANDARD
TZOFFSETFROM:+0100
TZOFFSETTO:+0000
TZNAME:GMT
DTSTART:20301027T010000
END:STANDARD
BEGIN:DAYLIGHT
TZOFFSETFROM:+0000
TZOFFSETTO:+0100
TZNAME:BST
DTSTART:20310330T010000
END:DAYLIGHT
BEGIN:STANDARD
TZOFFSETFROM:+0100
TZOFFSETTO:+0000
TZNAME:GMT
DTSTART:20311026T010000
END:STANDARD
END:VTIMEZONE
BEGIN:VEVENT
DTSTART;TZID=Europe/London:20301215T080000
DTEND;TZID=Europe/London:20301215T090000
DTSTAMP:20260419T174757
CREATED:20260129T102351Z
LAST-MODIFIED:20260129T102351Z
UID:10000272-1923552000-1923555600@saintlawrences.org.uk
SUMMARY:8am Mass
DESCRIPTION:
URL:https://saintlawrences.org.uk/event/8am-mass/2030-12-15/
END:VEVENT
BEGIN:VEVENT
DTSTART;TZID=Europe/London:20301215T093000
DTEND;TZID=Europe/London:20301215T103000
DTSTAMP:20260419T174757
CREATED:20260129T102529Z
LAST-MODIFIED:20260129T102529Z
UID:10000533-1923557400-1923561000@saintlawrences.org.uk
SUMMARY:9.30am Mass
DESCRIPTION:
URL:https://saintlawrences.org.uk/event/9-30am-mass/2030-12-15/
END:VEVENT
BEGIN:VEVENT
DTSTART;TZID=Europe/London:20301215T110000
DTEND;TZID=Europe/London:20301215T120000
DTSTAMP:20260419T174757
CREATED:20260129T102605Z
LAST-MODIFIED:20260129T102605Z
UID:10000794-1923562800-1923566400@saintlawrences.org.uk
SUMMARY:11am Mass
DESCRIPTION:
URL:https://saintlawrences.org.uk/event/11am-mass/2030-12-15/
END:VEVENT
BEGIN:VEVENT
DTSTART;TZID=Europe/London:20301215T130000
DTEND;TZID=Europe/London:20301215T140000
DTSTAMP:20260419T174757
CREATED:20260218T204108Z
LAST-MODIFIED:20260218T204108Z
UID:10004201-1923570000-1923573600@saintlawrences.org.uk
SUMMARY:Polish Mass
DESCRIPTION:
URL:https://saintlawrences.org.uk/event/polish-mass/2030-12-15/
END:VEVENT
BEGIN:VEVENT
DTSTART;TZID=Europe/London:20301215T143000
DTEND;TZID=Europe/London:20301215T153000
DTSTAMP:20260419T174757
CREATED:20260218T204316Z
LAST-MODIFIED:20260218T204316Z
UID:10004268-1923575400-1923579000@saintlawrences.org.uk
SUMMARY:Malayalam Mass
DESCRIPTION:
URL:https://saintlawrences.org.uk/event/malayalam-mass/2030-12-15/
END:VEVENT
BEGIN:VEVENT
DTSTART;TZID=Europe/London:20301215T190000
DTEND;TZID=Europe/London:20301215T200000
DTSTAMP:20260419T174757
CREATED:20260129T102627Z
LAST-MODIFIED:20260129T102800Z
UID:10001055-1923591600-1923595200@saintlawrences.org.uk
SUMMARY:7pm Mass
DESCRIPTION:
URL:https://saintlawrences.org.uk/event/7pm-mass/2030-12-15/
END:VEVENT
END:VCALENDAR